BEGIN:VCALENDAR
VERSION:2.0
PRODID:-// - ECPv6.15.20//NONSGML v1.0//EN
CALSCALE:GREGORIAN
METHOD:PUBLISH
X-ORIGINAL-URL:https://dogfanciersassociationoforegon.org
X-WR-CALDESC:Events for 
REFRESH-INTERVAL;VALUE=DURATION:PT1H
X-Robots-Tag:noindex
X-PUBLISHED-TTL:PT1H
BEGIN:VTIMEZONE
TZID:America/Los_Angeles
BEGIN:DAYLIGHT
TZOFFSETFROM:-0800
TZOFFSETTO:-0700
TZNAME:PDT
DTSTART:20240310T100000
END:DAYLIGHT
BEGIN:STANDARD
TZOFFSETFROM:-0700
TZOFFSETTO:-0800
TZNAME:PST
DTSTART:20241103T090000
END:STANDARD
BEGIN:DAYLIGHT
TZOFFSETFROM:-0800
TZOFFSETTO:-0700
TZNAME:PDT
DTSTART:20250309T100000
END:DAYLIGHT
BEGIN:STANDARD
TZOFFSETFROM:-0700
TZOFFSETTO:-0800
TZNAME:PST
DTSTART:20251102T090000
END:STANDARD
BEGIN:DAYLIGHT
TZOFFSETFROM:-0800
TZOFFSETTO:-0700
TZNAME:PDT
DTSTART:20260308T100000
END:DAYLIGHT
BEGIN:STANDARD
TZOFFSETFROM:-0700
TZOFFSETTO:-0800
TZNAME:PST
DTSTART:20261101T090000
END:STANDARD
END:VTIMEZONE
BEGIN:VEVENT
DTSTART;TZID=America/Los_Angeles:20251204T180000
DTEND;TZID=America/Los_Angeles:20251204T210000
DTSTAMP:20260421T141136
CREATED:20250722T192734Z
LAST-MODIFIED:20250722T192734Z
UID:1105-1764871200-1764882000@dogfanciersassociationoforegon.org
SUMMARY:2025 Holiday Dinner
DESCRIPTION:Cocktails & appetizer at 6:00 PM & seated dinner at 6:30 PM\nParking Options\n\nCarpool\nStreet parking\n$15 (Self Pay) valet parking with Embassy Suites by Hilton 319 SW Pine Street (next door restaurant)  \n\n\nWarm\, festive atmosphere suitable for the holiday season and wonderful staff\nPrivate dining area\nPreset menu with beef\, chicken\, salmon and vegetarian option\nHosted bar and potential donated wine with corkage fee\nHoliday singing entertainment
URL:https://dogfanciersassociationoforegon.org/event/2025-holiday-dinner/
LOCATION:Mother’s Bistro\, 121 SW 3rd Ave\, Portland\, 97204\, United States
CATEGORIES:Holiday Party
END:VEVENT
END:VCALENDAR